BEGIN:VCALENDAR
VERSION:2.0
PRODID:-//Hill-Murray School - ECPv6.15.18//NONSGML v1.0//EN
CALSCALE:GREGORIAN
METHOD:PUBLISH
X-WR-CALNAME:Hill-Murray School
X-ORIGINAL-URL:https://www.hill-murray.org
X-WR-CALDESC:Events for Hill-Murray School
REFRESH-INTERVAL;VALUE=DURATION:PT1H
X-Robots-Tag:noindex
X-PUBLISHED-TTL:PT1H
BEGIN:VTIMEZONE
TZID:UTC
BEGIN:STANDARD
TZOFFSETFROM:+0000
TZOFFSETTO:+0000
TZNAME:UTC
DTSTART:20230101T000000
END:STANDARD
END:VTIMEZONE
BEGIN:VEVENT
DTSTART;TZID=UTC:20240619T090000
DTEND;TZID=UTC:20240619T120000
DTSTAMP:20260422T060247
CREATED:20240614T122906Z
LAST-MODIFIED:20240619T132855Z
UID:10006124-1718787600-1718798400@www.hill-murray.org
SUMMARY:Summer Reading Program
DESCRIPTION:
URL:https://www.hill-murray.org/event/summer-reading-program-2/
LOCATION:TNC\, Staff Lounge & Commons
END:VEVENT
BEGIN:VEVENT
DTSTART;TZID=UTC:20240618T090000
DTEND;TZID=UTC:20240618T120000
DTSTAMP:20260422T060247
CREATED:20240614T122854Z
LAST-MODIFIED:20240618T131357Z
UID:10006118-1718701200-1718712000@www.hill-murray.org
SUMMARY:Summer Reading Program
DESCRIPTION:
URL:https://www.hill-murray.org/event/summer-reading-program/
LOCATION:TNC\, Staff Lounge & Commons
END:VEVENT
END:VCALENDAR