BEGIN:VCALENDAR
VERSION:2.0
PRODID:-//Hill-Murray School - ECPv6.15.18//NONSGML v1.0//EN
CALSCALE:GREGORIAN
METHOD:PUBLISH
X-ORIGINAL-URL:https://www.hill-murray.org
X-WR-CALDESC:Events for Hill-Murray School
REFRESH-INTERVAL;VALUE=DURATION:PT1H
X-Robots-Tag:noindex
X-PUBLISHED-TTL:PT1H
BEGIN:VTIMEZONE
TZID:America/Chicago
BEGIN:DAYLIGHT
TZOFFSETFROM:-0600
TZOFFSETTO:-0500
TZNAME:CDT
DTSTART:20240310T080000
END:DAYLIGHT
BEGIN:STANDARD
TZOFFSETFROM:-0500
TZOFFSETTO:-0600
TZNAME:CST
DTSTART:20241103T070000
END:STANDARD
BEGIN:DAYLIGHT
TZOFFSETFROM:-0600
TZOFFSETTO:-0500
TZNAME:CDT
DTSTART:20250309T080000
END:DAYLIGHT
BEGIN:STANDARD
TZOFFSETFROM:-0500
TZOFFSETTO:-0600
TZNAME:CST
DTSTART:20251102T070000
END:STANDARD
BEGIN:DAYLIGHT
TZOFFSETFROM:-0600
TZOFFSETTO:-0500
TZNAME:CDT
DTSTART:20260308T080000
END:DAYLIGHT
BEGIN:STANDARD
TZOFFSETFROM:-0500
TZOFFSETTO:-0600
TZNAME:CST
DTSTART:20261101T070000
END:STANDARD
END:VTIMEZONE
BEGIN:VTIMEZONE
TZID:UTC
BEGIN:STANDARD
TZOFFSETFROM:+0000
TZOFFSETTO:+0000
TZNAME:UTC
DTSTART:20220101T000000
END:STANDARD
END:VTIMEZONE
BEGIN:VEVENT
DTSTART;TZID=America/Chicago:20250920T080000
DTEND;TZID=America/Chicago:20250920T080000
DTSTAMP:20260422T042342
CREATED:20250516T200334Z
LAST-MODIFIED:20250919T190522Z
UID:10009345-1758355200-1758355200@www.hill-murray.org
SUMMARY:Volleyball: Girls JV  vs.  Concordia Academy Mahtomedi Minneapolis Southwest Mounds View Simley Spring Lake Park">Multiple Schools (Away)
DESCRIPTION:Type: Invitational  Opponent:  Concordia Academy Mahtomedi Minneapolis Southwest Mounds View Simley Spring Lake Park”>Multiple Schools
URL:https://www.hill-murray.org/event/volleyball-girls-jv-vs-concordia-academy-mahtomedi-minneapolis-southwest-mounds-view-simley-spring-lake-parkmultiple-schools-away/
LOCATION:Roseville Area High School
CATEGORIES:Volleyball
END:VEVENT
BEGIN:VEVENT
DTSTART;TZID=America/Chicago:20250920T080000
DTEND;TZID=America/Chicago:20250920T080000
DTSTAMP:20260422T042342
CREATED:20250516T200320Z
LAST-MODIFIED:20250919T190522Z
UID:10009344-1758355200-1758355200@www.hill-murray.org
SUMMARY:Volleyball: Girls B  vs.  Concordia Academy Mahtomedi Minneapolis Southwest Mounds View Simley Spring Lake Park">Multiple Schools (Away)
DESCRIPTION:Type: Invitational  Opponent:  Concordia Academy Mahtomedi Minneapolis Southwest Mounds View Simley Spring Lake Park”>Multiple Schools
URL:https://www.hill-murray.org/event/volleyball-girls-b-vs-concordia-academy-mahtomedi-minneapolis-southwest-mounds-view-simley-spring-lake-parkmultiple-schools-away/
LOCATION:Roseville Area High School
CATEGORIES:Volleyball
END:VEVENT
BEGIN:VEVENT
DTSTART;TZID=UTC:20250825T160000
DTEND;TZID=UTC:20250825T160000
DTSTAMP:20260422T042342
CREATED:20250716T210517Z
LAST-MODIFIED:20250824T233518Z
UID:10009641-1756137600-1756137600@www.hill-murray.org
SUMMARY:Tennis: Girls Varsity  vs.  Maple Grove Hastings High School">Multiple Schools (Away)
DESCRIPTION:Type: Quadrangular  Opponent:  Maple Grove Hastings High School”>Multiple Schools  Comments: Hastings (10am) and Hill Murray (4pm)
URL:https://www.hill-murray.org/event/tennis-girls-varsity-vs-maple-grove-hastings-high-schoolmultiple-schools-away/
LOCATION:Roseville Area High School
CATEGORIES:Girls Tennis
END:VEVENT
BEGIN:VEVENT
DTSTART;TZID=UTC:20250825T150000
DTEND;TZID=UTC:20250825T150000
DTSTAMP:20260422T042343
CREATED:20250530T185111Z
LAST-MODIFIED:20250715T210522Z
UID:10009426-1756134000-1756134000@www.hill-murray.org
SUMMARY:Tennis: Girls Varsity  vs.  Hastings High School">Multiple Schools (Away)
DESCRIPTION:Type: Game  Opponent:  Hastings High School”>Multiple Schools  Comments: Hastings (10am) and Hill Murray (4pm)
URL:https://www.hill-murray.org/event/tennis-girls-varsity-vs-hastings-high-schoolmultiple-schools-away/
LOCATION:Roseville Area High School
CATEGORIES:Girls Tennis
END:VEVENT
BEGIN:VEVENT
DTSTART;TZID=UTC:20250603T000000
DTEND;TZID=UTC:20250603T000000
DTSTAMP:20260422T042343
CREATED:20250601T170518Z
LAST-MODIFIED:20250602T170517Z
UID:10009427-1748908800-1748908800@www.hill-murray.org
SUMMARY:Lacrosse: Girls Varsity  vs. Roseville Area (Away)
DESCRIPTION:Type: Game  Opponent: Roseville Area  Comments: ALL TICKETS MUST BE PURCHASED ONLINE (NO CASH SALES)
URL:https://www.hill-murray.org/event/lacrosse-girls-varsity-vs-roseville-area-away-3/
LOCATION:Roseville Area High School
CATEGORIES:Girls Lacrosse
END:VEVENT
BEGIN:VEVENT
DTSTART;TZID=UTC:20250521T220000
DTEND;TZID=UTC:20250521T220000
DTSTAMP:20260422T042343
CREATED:20250521T191151Z
LAST-MODIFIED:20250521T191151Z
UID:10009388-1747864800-1747864800@www.hill-murray.org
SUMMARY:Lacrosse: Girls Varsity  (Rescheduled from 05-20-25) vs. Roseville Area (Away)
DESCRIPTION:Type: Game  Opponent: Roseville Area
URL:https://www.hill-murray.org/event/lacrosse-girls-varsity-rescheduled-from-05-20-25-vs-roseville-area-away/
LOCATION:Roseville Area High School
CATEGORIES:Girls Lacrosse
END:VEVENT
BEGIN:VEVENT
DTSTART;TZID=UTC:20250521T203000
DTEND;TZID=UTC:20250521T203000
DTSTAMP:20260422T042343
CREATED:20250521T191151Z
LAST-MODIFIED:20250521T191151Z
UID:10009387-1747859400-1747859400@www.hill-murray.org
SUMMARY:Lacrosse: Girls JV  (Rescheduled from 05-20-25) vs. Roseville Area (Away)
DESCRIPTION:Type: Game  Opponent: Roseville Area
URL:https://www.hill-murray.org/event/lacrosse-girls-jv-rescheduled-from-05-20-25-vs-roseville-area-away/
LOCATION:Roseville Area High School
CATEGORIES:Girls Lacrosse
END:VEVENT
BEGIN:VEVENT
DTSTART;TZID=UTC:20250521T000000
DTEND;TZID=UTC:20250521T000000
DTSTAMP:20260422T042343
CREATED:20240613T175536Z
LAST-MODIFIED:20250520T180525Z
UID:10007870-1747785600-1747785600@www.hill-murray.org
SUMMARY:Lacrosse: Girls Varsity  vs. Roseville Area (Away)
DESCRIPTION:Type: Game  Opponent: Roseville Area
URL:https://www.hill-murray.org/event/lacrosse-girls-varsity-vs-roseville-area-away-2/
LOCATION:Roseville Area High School
CATEGORIES:Girls Lacrosse
END:VEVENT
BEGIN:VEVENT
DTSTART;TZID=UTC:20250520T223000
DTEND;TZID=UTC:20250520T223000
DTSTAMP:20260422T042343
CREATED:20240613T175536Z
LAST-MODIFIED:20250520T180525Z
UID:10007869-1747780200-1747780200@www.hill-murray.org
SUMMARY:Lacrosse: Girls JV  vs. Roseville Area (Away)
DESCRIPTION:Type: Game  Opponent: Roseville Area
URL:https://www.hill-murray.org/event/lacrosse-girls-jv-vs-roseville-area-away-2/
LOCATION:Roseville Area High School
CATEGORIES:Girls Lacrosse
END:VEVENT
BEGIN:VEVENT
DTSTART;TZID=UTC:20240828T160000
DTEND;TZID=UTC:20240828T160000
DTSTAMP:20260422T042343
CREATED:20240327T201927Z
LAST-MODIFIED:20240821T131435Z
UID:10005870-1724860800-1724860800@www.hill-murray.org
SUMMARY:Tennis: Girls Varsity  (Time Changed) vs. Roseville Area (Away)
DESCRIPTION:Type: Quadrangular  Opponent: Roseville Area
URL:https://www.hill-murray.org/event/tennis-girls-varsity-time-changed-vs-roseville-area-away/
LOCATION:Roseville Area High School
END:VEVENT
BEGIN:VEVENT
DTSTART;TZID=UTC:20230923T080000
DTEND;TZID=UTC:20230923T080000
DTSTAMP:20260422T042343
CREATED:20230801T042825Z
LAST-MODIFIED:20230922T171000Z
UID:10007310-1695456000-1695456000@www.hill-murray.org
SUMMARY:Volleyball: B  vs.  Concordia Academy Mahtomedi Minneapolis Southwest Mounds View Simley Spring Lake Park">Multiple Schools (Away)
DESCRIPTION:Type: Tournament  Opponent:  Concordia Academy Mahtomedi Minneapolis Southwest Mounds View Simley Spring Lake Park”>Multiple Schools
URL:https://www.hill-murray.org/event/volleyball-b-vs-concordia-academy-mahtomedi-minneapolis-southwest-mounds-view-simley-spring-lake-parkmultiple-schools-away-2/
LOCATION:Roseville Area High School
END:VEVENT
BEGIN:VEVENT
DTSTART;TZID=UTC:20230829T160000
DTEND;TZID=UTC:20230829T160000
DTSTAMP:20260422T042343
CREATED:20230817T081053Z
LAST-MODIFIED:20230829T111006Z
UID:10005586-1693324800-1693324800@www.hill-murray.org
SUMMARY:Tennis: Girls Varsity  vs. Roseville Area (Away)
DESCRIPTION:Type: Match  Opponent: Roseville Area
URL:https://www.hill-murray.org/event/tennis-girls-varsity-vs-roseville-area-away-2/
LOCATION:Roseville Area High School
END:VEVENT
BEGIN:VEVENT
DTSTART;TZID=UTC:20230424T153000
DTEND;TZID=UTC:20230424T153000
DTSTAMP:20260422T042343
CREATED:20221201T111148Z
LAST-MODIFIED:20230423T231004Z
UID:10006693-1682350200-1682350200@www.hill-murray.org
SUMMARY:Tennis: Boys JV  vs. Roseville Area (Away)
DESCRIPTION:Type: Match  Opponent: Roseville Area
URL:https://www.hill-murray.org/event/tennis-boys-jv-vs-roseville-area-away/
LOCATION:Roseville Area High School
END:VEVENT
END:VCALENDAR