BEGIN:VCALENDAR
VERSION:2.0
PRODID:-//Hill-Murray School - ECPv6.15.18//NONSGML v1.0//EN
CALSCALE:GREGORIAN
METHOD:PUBLISH
X-ORIGINAL-URL:https://www.hill-murray.org
X-WR-CALDESC:Events for Hill-Murray School
REFRESH-INTERVAL;VALUE=DURATION:PT1H
X-Robots-Tag:noindex
X-PUBLISHED-TTL:PT1H
BEGIN:VTIMEZONE
TZID:America/Chicago
BEGIN:DAYLIGHT
TZOFFSETFROM:-0600
TZOFFSETTO:-0500
TZNAME:CDT
DTSTART:20240310T080000
END:DAYLIGHT
BEGIN:STANDARD
TZOFFSETFROM:-0500
TZOFFSETTO:-0600
TZNAME:CST
DTSTART:20241103T070000
END:STANDARD
BEGIN:DAYLIGHT
TZOFFSETFROM:-0600
TZOFFSETTO:-0500
TZNAME:CDT
DTSTART:20250309T080000
END:DAYLIGHT
BEGIN:STANDARD
TZOFFSETFROM:-0500
TZOFFSETTO:-0600
TZNAME:CST
DTSTART:20251102T070000
END:STANDARD
BEGIN:DAYLIGHT
TZOFFSETFROM:-0600
TZOFFSETTO:-0500
TZNAME:CDT
DTSTART:20260308T080000
END:DAYLIGHT
BEGIN:STANDARD
TZOFFSETFROM:-0500
TZOFFSETTO:-0600
TZNAME:CST
DTSTART:20261101T070000
END:STANDARD
END:VTIMEZONE
BEGIN:VTIMEZONE
TZID:Atlantic/Reykjavik
BEGIN:STANDARD
TZOFFSETFROM:+0000
TZOFFSETTO:+0000
TZNAME:GMT
DTSTART:20240101T000000
END:STANDARD
END:VTIMEZONE
BEGIN:VTIMEZONE
TZID:UTC
BEGIN:STANDARD
TZOFFSETFROM:+0000
TZOFFSETTO:+0000
TZNAME:UTC
DTSTART:20220101T000000
END:STANDARD
END:VTIMEZONE
BEGIN:VEVENT
DTSTART;TZID=America/Chicago:20250906T080000
DTEND;TZID=America/Chicago:20250906T080000
DTSTAMP:20260421T184307
CREATED:20250516T200300Z
LAST-MODIFIED:20250905T180520Z
UID:10009328-1757145600-1757145600@www.hill-murray.org
SUMMARY:Volleyball: Girls 9  vs.  Champlin Park Eastview Mankato East Mounds View Park Saint Michael-Albertville Waconia Woodbury Hastings High School Mahtomedi Minneapolis Washburn North St. Paul High School St. Louis Park Stillwater">Multiple Schools (Away)
DESCRIPTION:Type: Tournament  Opponent:  Champlin Park Eastview Mankato East Mounds View Park Saint Michael-Albertville Waconia Woodbury Hastings High School Mahtomedi Minneapolis Washburn North St. Paul High School St. Louis Park Stillwater”>Multiple Schools
URL:https://www.hill-murray.org/event/volleyball-girls-9-vs-champlin-park-eastview-mankato-east-mounds-view-park-saint-michael-albertville-waconia-woodbury-hastings-high-school-mahtomedi-minneapolis-washburn-north-st-paul-high-school/
LOCATION:East Ridge High School
CATEGORIES:Volleyball
END:VEVENT
BEGIN:VEVENT
DTSTART;TZID=Atlantic/Reykjavik:20250828T190000
DTEND;TZID=Atlantic/Reykjavik:20250828T210000
DTSTAMP:20260421T184307
CREATED:20250512T173048Z
LAST-MODIFIED:20250828T185018Z
UID:10009040-1756407600-1756414800@www.hill-murray.org
SUMMARY:Soccer: Girls Varsity  vs. East Ridge (Away)
DESCRIPTION:Type: Game Opponent: East Ridge
URL:https://www.hill-murray.org/event/soccer-girls-varsity-vs-east-ridge-away/
LOCATION:East Ridge High School
CATEGORIES:Girls Soccer
END:VEVENT
BEGIN:VEVENT
DTSTART;TZID=Atlantic/Reykjavik:20250828T180000
DTEND;TZID=Atlantic/Reykjavik:20250828T200000
DTSTAMP:20260421T184307
CREATED:20250512T173048Z
LAST-MODIFIED:20250828T185018Z
UID:10009039-1756404000-1756411200@www.hill-murray.org
SUMMARY:Soccer: Girls JV  vs. East Ridge (Away)
DESCRIPTION:Type: Game Opponent: East Ridge
URL:https://www.hill-murray.org/event/soccer-girls-jv-vs-east-ridge-away/
LOCATION:East Ridge High School
CATEGORIES:Girls Soccer
END:VEVENT
BEGIN:VEVENT
DTSTART;TZID=America/Chicago:20250828T180000
DTEND;TZID=America/Chicago:20250828T180000
DTSTAMP:20260421T184307
CREATED:20250512T173018Z
LAST-MODIFIED:20250828T160531Z
UID:10009011-1756404000-1756404000@www.hill-murray.org
SUMMARY:Soccer: Boys JV  vs. East Ridge (Away)
DESCRIPTION:Type: Game  Opponent: East Ridge
URL:https://www.hill-murray.org/event/soccer-boys-jv-vs-east-ridge-away/
LOCATION:East Ridge High School
CATEGORIES:Boys Soccer
END:VEVENT
BEGIN:VEVENT
DTSTART;TZID=America/Chicago:20250828T170000
DTEND;TZID=America/Chicago:20250828T170000
DTSTAMP:20260421T184307
CREATED:20250512T173004Z
LAST-MODIFIED:20250828T160531Z
UID:10009010-1756400400-1756400400@www.hill-murray.org
SUMMARY:Soccer: Boys Varsity  vs. East Ridge (Away)
DESCRIPTION:Type: Game  Opponent: East Ridge
URL:https://www.hill-murray.org/event/soccer-boys-varsity-vs-east-ridge-away/
LOCATION:East Ridge High School
CATEGORIES:Boys Soccer
END:VEVENT
BEGIN:VEVENT
DTSTART;TZID=Atlantic/Reykjavik:20250828T160000
DTEND;TZID=Atlantic/Reykjavik:20250828T160000
DTSTAMP:20260421T184307
CREATED:20250512T173048Z
LAST-MODIFIED:20250828T185017Z
UID:10009038-1756396800-1756396800@www.hill-murray.org
SUMMARY:Soccer: Girls B  vs. East Ridge (Away)
DESCRIPTION:Type: Game Opponent: East Ridge
URL:https://www.hill-murray.org/event/soccer-girls-b-vs-east-ridge-away/
LOCATION:East Ridge High School
CATEGORIES:Girls Soccer
END:VEVENT
BEGIN:VEVENT
DTSTART;TZID=America/Chicago:20250828T160000
DTEND;TZID=America/Chicago:20250828T160000
DTSTAMP:20260421T184307
CREATED:20250512T173003Z
LAST-MODIFIED:20250828T160531Z
UID:10009009-1756396800-1756396800@www.hill-murray.org
SUMMARY:Soccer: Boys B  vs. East Ridge (Away)
DESCRIPTION:Type: Game  Opponent: East Ridge
URL:https://www.hill-murray.org/event/soccer-boys-b-vs-east-ridge-away/
LOCATION:East Ridge High School
CATEGORIES:Boys Soccer
END:VEVENT
BEGIN:VEVENT
DTSTART;TZID=America/Chicago:20250828T160000
DTEND;TZID=America/Chicago:20250828T160000
DTSTAMP:20260421T184307
CREATED:20250512T173002Z
LAST-MODIFIED:20250828T160531Z
UID:10009007-1756396800-1756396800@www.hill-murray.org
SUMMARY:Soccer: Boys 9  vs. East Ridge (Away)
DESCRIPTION:Type: Game  Opponent: East Ridge
URL:https://www.hill-murray.org/event/soccer-boys-9-vs-east-ridge-away/
LOCATION:East Ridge High School
CATEGORIES:Boys Soccer
END:VEVENT
BEGIN:VEVENT
DTSTART;TZID=UTC:20250410T190000
DTEND;TZID=UTC:20250410T190000
DTSTAMP:20260421T184307
CREATED:20240613T175424Z
LAST-MODIFIED:20240821T132420Z
UID:10007838-1744311600-1744311600@www.hill-murray.org
SUMMARY:Lacrosse: Girls Varsity  vs. East Ridge (Away)
DESCRIPTION:Type: Game  Opponent: East Ridge
URL:https://www.hill-murray.org/event/lacrosse-girls-varsity-vs-east-ridge-away/
LOCATION:East Ridge High School
END:VEVENT
BEGIN:VEVENT
DTSTART;TZID=UTC:20250410T171500
DTEND;TZID=UTC:20250410T171500
DTSTAMP:20260421T184307
CREATED:20240613T175424Z
LAST-MODIFIED:20240821T132420Z
UID:10007837-1744305300-1744305300@www.hill-murray.org
SUMMARY:Lacrosse: Girls JV  vs. East Ridge (Away)
DESCRIPTION:Type: Game  Opponent: East Ridge
URL:https://www.hill-murray.org/event/lacrosse-girls-jv-vs-east-ridge-away/
LOCATION:East Ridge High School
END:VEVENT
BEGIN:VEVENT
DTSTART;TZID=UTC:20230909T080000
DTEND;TZID=UTC:20230909T080000
DTSTAMP:20260421T184307
CREATED:20230803T045629Z
LAST-MODIFIED:20230908T134003Z
UID:10007319-1694246400-1694246400@www.hill-murray.org
SUMMARY:Volleyball: 9  vs.  Champlin Park (B) Eastview Hastings High School Mahtomedi Mankato East Minneapolis Washburn Mounds View North St. Paul High School Park Saint Michael-Albertville St. Louis Park Waconia Woodbury">Multiple Schools (Away)
DESCRIPTION:Type: Tournament  Opponent:  Champlin Park (B) Eastview Hastings High School Mahtomedi Mankato East Minneapolis Washburn Mounds View North St. Paul High School Park Saint Michael-Albertville St. Louis Park Waconia Woodbury”>Multiple Schools
URL:https://www.hill-murray.org/event/volleyball-9-vs-champlin-park-b-eastview-hastings-high-school-mahtomedi-mankato-east-minneapolis-washburn-mounds-view-north-st-paul-high-school-park-saint-michael-albertville-st-louis-park-wac/
LOCATION:East Ridge High School
END:VEVENT
BEGIN:VEVENT
DTSTART;TZID=UTC:20230831T153000
DTEND;TZID=UTC:20230831T153000
DTSTAMP:20260421T184307
CREATED:20230518T074129Z
LAST-MODIFIED:20230831T114037Z
UID:10005273-1693495800-1693495800@www.hill-murray.org
SUMMARY:Soccer: Boys 9  (Time Changed) vs. East Ridge (Away)
DESCRIPTION:Type: Game  Opponent: East Ridge
URL:https://www.hill-murray.org/event/soccer-boys-9-time-changed-vs-east-ridge-away/
LOCATION:East Ridge High School
END:VEVENT
BEGIN:VEVENT
DTSTART;TZID=UTC:20230831T150000
DTEND;TZID=UTC:20230831T150000
DTSTAMP:20260421T184307
CREATED:20230518T074129Z
LAST-MODIFIED:20230831T114037Z
UID:10005270-1693494000-1693494000@www.hill-murray.org
SUMMARY:Soccer: Boys B  (Date Changed to 08-30-23) vs. East Ridge (Away)
DESCRIPTION:Type: Game  Opponent: East Ridge
URL:https://www.hill-murray.org/event/soccer-boys-b-date-changed-to-08-30-23-vs-east-ridge-away/
LOCATION:East Ridge High School
END:VEVENT
BEGIN:VEVENT
DTSTART;TZID=UTC:20230831T150000
DTEND;TZID=UTC:20230831T150000
DTSTAMP:20260421T184307
CREATED:20230518T074117Z
LAST-MODIFIED:20230831T114037Z
UID:10005265-1693494000-1693494000@www.hill-murray.org
SUMMARY:Soccer: Boys Varsity  (Location Changed) vs. East Ridge (Away)
DESCRIPTION:Type: Game  Opponent: East Ridge
URL:https://www.hill-murray.org/event/soccer-boys-varsity-time-changed-vs-east-ridge-away/
LOCATION:East Ridge High School
END:VEVENT
BEGIN:VEVENT
DTSTART;TZID=UTC:20230831T150000
DTEND;TZID=UTC:20230831T150000
DTSTAMP:20260421T184307
CREATED:20230518T074117Z
LAST-MODIFIED:20230831T114037Z
UID:10005267-1693494000-1693494000@www.hill-murray.org
SUMMARY:Soccer: Boys JV  (Date Changed to 08-30-23) vs. East Ridge (Away)
DESCRIPTION:Type: Game  Opponent: East Ridge
URL:https://www.hill-murray.org/event/soccer-boys-jv-date-changed-to-08-30-23-vs-east-ridge-away/
LOCATION:East Ridge High School
END:VEVENT
BEGIN:VEVENT
DTSTART;TZID=UTC:20230830T160000
DTEND;TZID=UTC:20230830T160000
DTSTAMP:20260421T184307
CREATED:20230808T061054Z
LAST-MODIFIED:20230830T112709Z
UID:10005566-1693411200-1693411200@www.hill-murray.org
SUMMARY:Tennis: Girls B  vs. East Ridge (Away)
DESCRIPTION:Type: Match  Opponent: East Ridge
URL:https://www.hill-murray.org/event/tennis-girls-b-vs-east-ridge-away/
LOCATION:East Ridge High School
END:VEVENT
BEGIN:VEVENT
DTSTART;TZID=UTC:20230830T153000
DTEND;TZID=UTC:20230830T153000
DTSTAMP:20260421T184307
CREATED:20230518T074117Z
LAST-MODIFIED:20230830T112709Z
UID:10005263-1693409400-1693409400@www.hill-murray.org
SUMMARY:Soccer: Boys B (Date & Time Changed from 08-31-23) vs. East Ridge (Away)
DESCRIPTION:Type: Game  Opponent: East Ridge
URL:https://www.hill-murray.org/event/soccer-boys-b-date-time-changed-from-08-31-23-vs-east-ridge-away/
LOCATION:East Ridge High School
END:VEVENT
BEGIN:VEVENT
DTSTART;TZID=UTC:20230830T153000
DTEND;TZID=UTC:20230830T153000
DTSTAMP:20260421T184307
CREATED:20230518T074117Z
LAST-MODIFIED:20230830T112709Z
UID:10005260-1693409400-1693409400@www.hill-murray.org
SUMMARY:Soccer: Boys JV (Date & Time Changed from 08-31-23) vs. East Ridge (Away)
DESCRIPTION:Type: Game  Opponent: East Ridge
URL:https://www.hill-murray.org/event/soccer-boys-jv-date-time-changed-from-08-31-23-vs-east-ridge-away/
LOCATION:East Ridge High School
END:VEVENT
BEGIN:VEVENT
DTSTART;TZID=UTC:20230520T130000
DTEND;TZID=UTC:20230520T130000
DTSTAMP:20260421T184307
CREATED:20220928T110109Z
LAST-MODIFIED:20230520T081013Z
UID:10004790-1684587600-1684587600@www.hill-murray.org
SUMMARY:Lacrosse: Girls Varsity  vs. East Ridge (Away)
DESCRIPTION:Type: Game  Opponent: East Ridge
URL:https://www.hill-murray.org/event/lacrosse-girls-varsity-vs-east-ridge-away-2/
LOCATION:East Ridge High School
END:VEVENT
BEGIN:VEVENT
DTSTART;TZID=UTC:20230520T110000
DTEND;TZID=UTC:20230520T110000
DTSTAMP:20260421T184307
CREATED:20220928T110109Z
LAST-MODIFIED:20230520T081012Z
UID:10004788-1684580400-1684580400@www.hill-murray.org
SUMMARY:Lacrosse: Girls JV  vs. East Ridge (Away)
DESCRIPTION:Type: Game  Opponent: East Ridge
URL:https://www.hill-murray.org/event/lacrosse-girls-jv-vs-east-ridge-away-2/
LOCATION:East Ridge High School
END:VEVENT
BEGIN:VEVENT
DTSTART;TZID=UTC:20230225T080000
DTEND;TZID=UTC:20230225T080000
DTSTAMP:20260421T184307
CREATED:20230210T055542Z
LAST-MODIFIED:20230224T091018Z
UID:10006740-1677312000-1677312000@www.hill-murray.org
SUMMARY:Basketball: Girls B  vs.  Anoka Centennial Cretin-Derham Hall Elk River Farmington Hopkins Mahtomedi Minnetonka Mounds View Shakopee Stillwater Tartan Woodbury">Multiple Schools (Away)
DESCRIPTION:Type: Tournament  Opponent:  Anoka Centennial Cretin-Derham Hall Elk River Farmington Hopkins Mahtomedi Minnetonka Mounds View Shakopee Stillwater Tartan Woodbury”>Multiple Schools
URL:https://www.hill-murray.org/event/basketball-girls-b-vs-anoka-centennial-cretin-derham-hall-elk-river-farmington-hopkins-mahtomedi-minnetonka-mounds-view-shakopee-stillwater-tartan-woodburymultiple-schools-away/
LOCATION:East Ridge High School
END:VEVENT
END:VCALENDAR