BEGIN:VCALENDAR
VERSION:2.0
PRODID:-//Hill-Murray School - ECPv6.15.18//NONSGML v1.0//EN
CALSCALE:GREGORIAN
METHOD:PUBLISH
X-WR-CALNAME:Hill-Murray School
X-ORIGINAL-URL:https://www.hill-murray.org
X-WR-CALDESC:Events for Hill-Murray School
REFRESH-INTERVAL;VALUE=DURATION:PT1H
X-Robots-Tag:noindex
X-PUBLISHED-TTL:PT1H
BEGIN:VTIMEZONE
TZID:America/Chicago
BEGIN:DAYLIGHT
TZOFFSETFROM:-0600
TZOFFSETTO:-0500
TZNAME:CDT
DTSTART:20250309T080000
END:DAYLIGHT
BEGIN:STANDARD
TZOFFSETFROM:-0500
TZOFFSETTO:-0600
TZNAME:CST
DTSTART:20251102T070000
END:STANDARD
BEGIN:DAYLIGHT
TZOFFSETFROM:-0600
TZOFFSETTO:-0500
TZNAME:CDT
DTSTART:20260308T080000
END:DAYLIGHT
BEGIN:STANDARD
TZOFFSETFROM:-0500
TZOFFSETTO:-0600
TZNAME:CST
DTSTART:20261101T070000
END:STANDARD
BEGIN:DAYLIGHT
TZOFFSETFROM:-0600
TZOFFSETTO:-0500
TZNAME:CDT
DTSTART:20270314T080000
END:DAYLIGHT
BEGIN:STANDARD
TZOFFSETFROM:-0500
TZOFFSETTO:-0600
TZNAME:CST
DTSTART:20271107T070000
END:STANDARD
END:VTIMEZONE
BEGIN:VEVENT
DTSTART;TZID=America/Chicago:20260929T164500
DTEND;TZID=America/Chicago:20260929T164500
DTSTAMP:20260422T005557
CREATED:20260301T235034Z
LAST-MODIFIED:20260421T233531Z
UID:10010001-1790700300-1790700300@www.hill-murray.org
SUMMARY:Volleyball: Girls B  vs. Highland Park  (MN) (Home)
DESCRIPTION:Type: Game  Opponent: Highland Park  (MN)
URL:https://www.hill-murray.org/event/volleyball-girls-b-vs-highland-park-mn-home/
LOCATION:Hill Murray School
CATEGORIES:Volleyball
END:VEVENT
BEGIN:VEVENT
DTSTART;TZID=America/Chicago:20260929T181500
DTEND;TZID=America/Chicago:20260929T181500
DTSTAMP:20260422T005557
CREATED:20260301T235034Z
LAST-MODIFIED:20260421T233531Z
UID:10010002-1790705700-1790705700@www.hill-murray.org
SUMMARY:Volleyball: Girls Varsity  vs. Highland Park  (MN) (Home)
DESCRIPTION:Type: Game  Opponent: Highland Park  (MN)
URL:https://www.hill-murray.org/event/volleyball-girls-varsity-vs-highland-park-mn-home/
LOCATION:Hill Murray School
CATEGORIES:Volleyball
END:VEVENT
BEGIN:VEVENT
DTSTART;TZID=America/Chicago:20261008T164500
DTEND;TZID=America/Chicago:20261008T164500
DTSTAMP:20260422T005557
CREATED:20260301T235034Z
LAST-MODIFIED:20260421T233531Z
UID:10010003-1791477900-1791477900@www.hill-murray.org
SUMMARY:Volleyball: Girls 9  vs. Red Wing (Home)
DESCRIPTION:Type: Game  Opponent: Red Wing
URL:https://www.hill-murray.org/event/volleyball-girls-9-vs-red-wing-home/
LOCATION:Hill Murray School
CATEGORIES:Volleyball
END:VEVENT
BEGIN:VEVENT
DTSTART;TZID=America/Chicago:20261008T164500
DTEND;TZID=America/Chicago:20261008T164500
DTSTAMP:20260422T005557
CREATED:20260301T235035Z
LAST-MODIFIED:20260421T233531Z
UID:10010004-1791477900-1791477900@www.hill-murray.org
SUMMARY:Volleyball: Girls JV  vs. Red Wing (Home)
DESCRIPTION:Type: Game  Opponent: Red Wing
URL:https://www.hill-murray.org/event/volleyball-girls-jv-vs-red-wing-home/
LOCATION:Hill Murray School
CATEGORIES:Volleyball
END:VEVENT
BEGIN:VEVENT
DTSTART;TZID=America/Chicago:20261008T181500
DTEND;TZID=America/Chicago:20261008T181500
DTSTAMP:20260422T005557
CREATED:20260301T235035Z
LAST-MODIFIED:20260421T233531Z
UID:10010005-1791483300-1791483300@www.hill-murray.org
SUMMARY:Volleyball: Girls Varsity  vs. Red Wing (Home)
DESCRIPTION:Type: Game  Opponent: Red Wing
URL:https://www.hill-murray.org/event/volleyball-girls-varsity-vs-red-wing-home/
LOCATION:Hill Murray School
CATEGORIES:Volleyball
END:VEVENT
END:VCALENDAR