BEGIN:VCALENDAR
VERSION:2.0
PRODID:-//Hill-Murray School - ECPv6.15.18//NONSGML v1.0//EN
CALSCALE:GREGORIAN
METHOD:PUBLISH
X-ORIGINAL-URL:https://www.hill-murray.org
X-WR-CALDESC:Events for Hill-Murray School
REFRESH-INTERVAL;VALUE=DURATION:PT1H
X-Robots-Tag:noindex
X-PUBLISHED-TTL:PT1H
BEGIN:VTIMEZONE
TZID:America/Chicago
BEGIN:DAYLIGHT
TZOFFSETFROM:-0600
TZOFFSETTO:-0500
TZNAME:CDT
DTSTART:20250309T080000
END:DAYLIGHT
BEGIN:STANDARD
TZOFFSETFROM:-0500
TZOFFSETTO:-0600
TZNAME:CST
DTSTART:20251102T070000
END:STANDARD
BEGIN:DAYLIGHT
TZOFFSETFROM:-0600
TZOFFSETTO:-0500
TZNAME:CDT
DTSTART:20260308T080000
END:DAYLIGHT
BEGIN:STANDARD
TZOFFSETFROM:-0500
TZOFFSETTO:-0600
TZNAME:CST
DTSTART:20261101T070000
END:STANDARD
BEGIN:DAYLIGHT
TZOFFSETFROM:-0600
TZOFFSETTO:-0500
TZNAME:CDT
DTSTART:20270314T080000
END:DAYLIGHT
BEGIN:STANDARD
TZOFFSETFROM:-0500
TZOFFSETTO:-0600
TZNAME:CST
DTSTART:20271107T070000
END:STANDARD
END:VTIMEZONE
BEGIN:VEVENT
DTSTART;TZID=America/Chicago:20260421T153000
DTEND;TZID=America/Chicago:20260421T153000
DTSTAMP:20260421T181336
CREATED:20250613T160536Z
LAST-MODIFIED:20260420T215015Z
UID:10009465-1776785400-1776785400@www.hill-murray.org
SUMMARY:Tennis: Boys Varsity  vs. So. St. Paul (Away)
DESCRIPTION:Type: Match  Opponent: So. St. Paul
URL:https://www.hill-murray.org/event/tennis-boys-varsity-vs-so-st-paul-away-2/
LOCATION:So. St. Paul High School
CATEGORIES:Boys Tennis
END:VEVENT
BEGIN:VEVENT
DTSTART;TZID=America/Chicago:20260421T153000
DTEND;TZID=America/Chicago:20260421T153000
DTSTAMP:20260421T181336
CREATED:20250613T160536Z
LAST-MODIFIED:20260403T193529Z
UID:10009466-1776785400-1776785400@www.hill-murray.org
SUMMARY:Tennis: Boys JV  vs. So. St. Paul (Home)
DESCRIPTION:Type: Match  Opponent: So. St. Paul
URL:https://www.hill-murray.org/event/tennis-boys-jv-vs-so-st-paul-home/
LOCATION:Hill Murray School
CATEGORIES:Boys Tennis
END:VEVENT
END:VCALENDAR