BEGIN:VCALENDAR
VERSION:2.0
PRODID:-//Hill-Murray School - ECPv6.15.18//NONSGML v1.0//EN
CALSCALE:GREGORIAN
METHOD:PUBLISH
X-WR-CALNAME:Hill-Murray School
X-ORIGINAL-URL:https://www.hill-murray.org
X-WR-CALDESC:Events for Hill-Murray School
REFRESH-INTERVAL;VALUE=DURATION:PT1H
X-Robots-Tag:noindex
X-PUBLISHED-TTL:PT1H
BEGIN:VTIMEZONE
TZID:America/Chicago
BEGIN:DAYLIGHT
TZOFFSETFROM:-0600
TZOFFSETTO:-0500
TZNAME:CDT
DTSTART:20250309T080000
END:DAYLIGHT
BEGIN:STANDARD
TZOFFSETFROM:-0500
TZOFFSETTO:-0600
TZNAME:CST
DTSTART:20251102T070000
END:STANDARD
BEGIN:DAYLIGHT
TZOFFSETFROM:-0600
TZOFFSETTO:-0500
TZNAME:CDT
DTSTART:20260308T080000
END:DAYLIGHT
BEGIN:STANDARD
TZOFFSETFROM:-0500
TZOFFSETTO:-0600
TZNAME:CST
DTSTART:20261101T070000
END:STANDARD
BEGIN:DAYLIGHT
TZOFFSETFROM:-0600
TZOFFSETTO:-0500
TZNAME:CDT
DTSTART:20270314T080000
END:DAYLIGHT
BEGIN:STANDARD
TZOFFSETFROM:-0500
TZOFFSETTO:-0600
TZNAME:CST
DTSTART:20271107T070000
END:STANDARD
END:VTIMEZONE
BEGIN:VEVENT
DTSTART;TZID=America/Chicago:20260827T161500
DTEND;TZID=America/Chicago:20260827T161500
DTSTAMP:20260422T120058
CREATED:20260301T225029Z
LAST-MODIFIED:20260422T160522Z
UID:10009963-1787847300-1787847300@www.hill-murray.org
SUMMARY:Soccer: Boys B  vs. Cretin-Derham Hall (Away)
DESCRIPTION:Type: Game  Opponent: Cretin-Derham Hall
URL:https://www.hill-murray.org/event/soccer-boys-b-vs-cretin-derham-hall-away/
LOCATION:Cretin-Derham Hall High School\, 800 St Paul Ave\, Saint Paul\, MN\, United States
CATEGORIES:Boys Soccer
GEO:44.916165;-93.187377
X-APPLE-STRUCTURED-LOCATION;VALUE=URI;X-ADDRESS=Cretin-Derham Hall High School 800 St Paul Ave Saint Paul MN United States;X-APPLE-RADIUS=500;X-TITLE=800 St Paul Ave:geo:-93.187377,44.916165
END:VEVENT
BEGIN:VEVENT
DTSTART;TZID=America/Chicago:20260827T161500
DTEND;TZID=America/Chicago:20260827T161500
DTSTAMP:20260422T120058
CREATED:20260301T225029Z
LAST-MODIFIED:20260422T160522Z
UID:10009964-1787847300-1787847300@www.hill-murray.org
SUMMARY:Soccer: Boys 9  vs. Cretin-Derham Hall (Away)
DESCRIPTION:Type: Game  Opponent: Cretin-Derham Hall
URL:https://www.hill-murray.org/event/soccer-boys-9-vs-cretin-derham-hall-away/
LOCATION:Cretin-Derham Hall High School\, 800 St Paul Ave\, Saint Paul\, MN\, United States
CATEGORIES:Boys Soccer
GEO:44.916165;-93.187377
X-APPLE-STRUCTURED-LOCATION;VALUE=URI;X-ADDRESS=Cretin-Derham Hall High School 800 St Paul Ave Saint Paul MN United States;X-APPLE-RADIUS=500;X-TITLE=800 St Paul Ave:geo:-93.187377,44.916165
END:VEVENT
BEGIN:VEVENT
DTSTART;TZID=America/Chicago:20260827T173000
DTEND;TZID=America/Chicago:20260827T173000
DTSTAMP:20260422T120058
CREATED:20260301T225029Z
LAST-MODIFIED:20260422T160522Z
UID:10009965-1787851800-1787851800@www.hill-murray.org
SUMMARY:Soccer: Boys JV  vs. Cretin-Derham Hall (Away)
DESCRIPTION:Type: Game  Opponent: Cretin-Derham Hall
URL:https://www.hill-murray.org/event/soccer-boys-jv-vs-cretin-derham-hall-away-2/
LOCATION:Cretin-Derham Hall High School\, 800 St Paul Ave\, Saint Paul\, MN\, United States
CATEGORIES:Boys Soccer
GEO:44.916165;-93.187377
X-APPLE-STRUCTURED-LOCATION;VALUE=URI;X-ADDRESS=Cretin-Derham Hall High School 800 St Paul Ave Saint Paul MN United States;X-APPLE-RADIUS=500;X-TITLE=800 St Paul Ave:geo:-93.187377,44.916165
END:VEVENT
BEGIN:VEVENT
DTSTART;TZID=America/Chicago:20260827T190000
DTEND;TZID=America/Chicago:20260827T190000
DTSTAMP:20260422T120058
CREATED:20260301T225029Z
LAST-MODIFIED:20260422T160522Z
UID:10009966-1787857200-1787857200@www.hill-murray.org
SUMMARY:Soccer: Boys Varsity  vs. Cretin-Derham Hall (Away)
DESCRIPTION:Type: Game  Opponent: Cretin-Derham Hall
URL:https://www.hill-murray.org/event/soccer-boys-varsity-vs-cretin-derham-hall-away-2/
LOCATION:Cretin-Derham Hall High School\, 800 St Paul Ave\, Saint Paul\, MN\, United States
CATEGORIES:Boys Soccer
GEO:44.916165;-93.187377
X-APPLE-STRUCTURED-LOCATION;VALUE=URI;X-ADDRESS=Cretin-Derham Hall High School 800 St Paul Ave Saint Paul MN United States;X-APPLE-RADIUS=500;X-TITLE=800 St Paul Ave:geo:-93.187377,44.916165
END:VEVENT
BEGIN:VEVENT
DTSTART;TZID=America/Chicago:20260829T090000
DTEND;TZID=America/Chicago:20260829T090000
DTSTAMP:20260422T120058
CREATED:20260301T225030Z
LAST-MODIFIED:20260422T160522Z
UID:10009967-1787994000-1787994000@www.hill-murray.org
SUMMARY:Soccer: Boys 9  vs. Highland Park  (MN) (Home)
DESCRIPTION:Type: Game  Opponent: Highland Park  (MN)  Comments: Lower Grass Field North (Softball)
URL:https://www.hill-murray.org/event/soccer-boys-9-vs-highland-park-mn-home/
LOCATION:Hill Murray School
CATEGORIES:Boys Soccer
END:VEVENT
BEGIN:VEVENT
DTSTART;TZID=America/Chicago:20260829T090000
DTEND;TZID=America/Chicago:20260829T090000
DTSTAMP:20260422T120058
CREATED:20260301T225030Z
LAST-MODIFIED:20260422T160522Z
UID:10009968-1787994000-1787994000@www.hill-murray.org
SUMMARY:Soccer: Boys B  vs. Highland Park  (MN) (Home)
DESCRIPTION:Type: Game  Opponent: Highland Park  (MN)  Comments: Lower Grass Field South (Larepentuer)
URL:https://www.hill-murray.org/event/soccer-boys-b-vs-highland-park-mn-home/
LOCATION:Hill Murray School
CATEGORIES:Boys Soccer
END:VEVENT
BEGIN:VEVENT
DTSTART;TZID=America/Chicago:20260829T110000
DTEND;TZID=America/Chicago:20260829T110000
DTSTAMP:20260422T120058
CREATED:20260301T225030Z
LAST-MODIFIED:20260422T160523Z
UID:10009969-1788001200-1788001200@www.hill-murray.org
SUMMARY:Soccer: Boys Varsity  vs. Highland Park  (MN) (Home)
DESCRIPTION:Type: Game  Opponent: Highland Park  (MN)  Comments: Stadium
URL:https://www.hill-murray.org/event/soccer-boys-varsity-vs-highland-park-mn-home/
LOCATION:Hill Murray School
CATEGORIES:Boys Soccer
END:VEVENT
BEGIN:VEVENT
DTSTART;TZID=America/Chicago:20260829T110000
DTEND;TZID=America/Chicago:20260829T110000
DTSTAMP:20260422T120058
CREATED:20260301T225030Z
LAST-MODIFIED:20260422T160523Z
UID:10009970-1788001200-1788001200@www.hill-murray.org
SUMMARY:Soccer: Boys JV  vs. Highland Park  (MN) (Home)
DESCRIPTION:Type: Game  Opponent: Highland Park  (MN)  Comments: Lower Grass Field South (Larpentuer)
URL:https://www.hill-murray.org/event/soccer-boys-jv-vs-highland-park-mn-home/
LOCATION:Hill Murray School
CATEGORIES:Boys Soccer
END:VEVENT
END:VCALENDAR