BEGIN:VCALENDAR
VERSION:2.0
PRODID:-//Hill-Murray School - ECPv6.15.18//NONSGML v1.0//EN
CALSCALE:GREGORIAN
METHOD:PUBLISH
X-ORIGINAL-URL:https://www.hill-murray.org
X-WR-CALDESC:Events for Hill-Murray School
REFRESH-INTERVAL;VALUE=DURATION:PT1H
X-Robots-Tag:noindex
X-PUBLISHED-TTL:PT1H
BEGIN:VTIMEZONE
TZID:America/Chicago
BEGIN:DAYLIGHT
TZOFFSETFROM:-0600
TZOFFSETTO:-0500
TZNAME:CDT
DTSTART:20250309T080000
END:DAYLIGHT
BEGIN:STANDARD
TZOFFSETFROM:-0500
TZOFFSETTO:-0600
TZNAME:CST
DTSTART:20251102T070000
END:STANDARD
BEGIN:DAYLIGHT
TZOFFSETFROM:-0600
TZOFFSETTO:-0500
TZNAME:CDT
DTSTART:20260308T080000
END:DAYLIGHT
BEGIN:STANDARD
TZOFFSETFROM:-0500
TZOFFSETTO:-0600
TZNAME:CST
DTSTART:20261101T070000
END:STANDARD
BEGIN:DAYLIGHT
TZOFFSETFROM:-0600
TZOFFSETTO:-0500
TZNAME:CDT
DTSTART:20270314T080000
END:DAYLIGHT
BEGIN:STANDARD
TZOFFSETFROM:-0500
TZOFFSETTO:-0600
TZNAME:CST
DTSTART:20271107T070000
END:STANDARD
END:VTIMEZONE
BEGIN:VEVENT
DTSTART;TZID=America/Chicago:20260428T173000
DTEND;TZID=America/Chicago:20260428T173000
DTSTAMP:20260421T233911
CREATED:20250613T165022Z
LAST-MODIFIED:20260421T172015Z
UID:10009539-1777397400-1777397400@www.hill-murray.org
SUMMARY:Lacrosse: Boys JV  vs. Two Rivers High School (Away)
DESCRIPTION:Type: Game  Opponent: Two Rivers High School
URL:https://www.hill-murray.org/event/lacrosse-boys-jv-vs-two-rivers-high-school-away-3/
LOCATION:Two Rivers High School
CATEGORIES:Boys Lacrosse
END:VEVENT
BEGIN:VEVENT
DTSTART;TZID=America/Chicago:20260428T190000
DTEND;TZID=America/Chicago:20260428T190000
DTSTAMP:20260421T233911
CREATED:20250613T165022Z
LAST-MODIFIED:20260421T172015Z
UID:10009540-1777402800-1777402800@www.hill-murray.org
SUMMARY:Lacrosse: Boys Varsity  vs. Two Rivers High School (Away)
DESCRIPTION:Type: Game  Opponent: Two Rivers High School
URL:https://www.hill-murray.org/event/lacrosse-boys-varsity-vs-two-rivers-high-school-away-3/
LOCATION:Two Rivers High School
CATEGORIES:Boys Lacrosse
END:VEVENT
BEGIN:VEVENT
DTSTART;TZID=America/Chicago:20260501T173000
DTEND;TZID=America/Chicago:20260501T173000
DTSTAMP:20260421T233911
CREATED:20250613T165038Z
LAST-MODIFIED:20260421T172016Z
UID:10009541-1777656600-1777656600@www.hill-murray.org
SUMMARY:Lacrosse: Boys JV  vs. Hastings High School (Home)
DESCRIPTION:Type: Game  Opponent: Hastings High School
URL:https://www.hill-murray.org/event/lacrosse-boys-jv-vs-hastings-high-school-home-2/
LOCATION:Hill Murray School
CATEGORIES:Boys Lacrosse
END:VEVENT
BEGIN:VEVENT
DTSTART;TZID=America/Chicago:20260501T190000
DTEND;TZID=America/Chicago:20260501T190000
DTSTAMP:20260421T233911
CREATED:20250613T165038Z
LAST-MODIFIED:20260421T172016Z
UID:10009542-1777662000-1777662000@www.hill-murray.org
SUMMARY:Lacrosse: Boys Varsity  vs. Hastings High School (Home)
DESCRIPTION:Type: Game  Opponent: Hastings High School
URL:https://www.hill-murray.org/event/lacrosse-boys-varsity-vs-hastings-high-school-home-2/
LOCATION:Hill Murray School
CATEGORIES:Boys Lacrosse
END:VEVENT
BEGIN:VEVENT
DTSTART;TZID=America/Chicago:20260505T163000
DTEND;TZID=America/Chicago:20260505T163000
DTSTAMP:20260421T233911
CREATED:20250613T165039Z
LAST-MODIFIED:20260421T172016Z
UID:10009543-1777998600-1777998600@www.hill-murray.org
SUMMARY:Lacrosse: Boys JV  vs. Academy of Holy Angels (Away)
DESCRIPTION:Type: Game  Opponent: Academy of Holy Angels
URL:https://www.hill-murray.org/event/lacrosse-boys-jv-vs-academy-of-holy-angels-away-2/
LOCATION:Academy of Holy Angels
CATEGORIES:Boys Lacrosse
END:VEVENT
BEGIN:VEVENT
DTSTART;TZID=America/Chicago:20260505T180000
DTEND;TZID=America/Chicago:20260505T180000
DTSTAMP:20260421T233911
CREATED:20250613T165039Z
LAST-MODIFIED:20260421T172016Z
UID:10009544-1778004000-1778004000@www.hill-murray.org
SUMMARY:Lacrosse: Boys Varsity  vs. Academy of Holy Angels (Away)
DESCRIPTION:Type: Game  Opponent: Academy of Holy Angels
URL:https://www.hill-murray.org/event/lacrosse-boys-varsity-vs-academy-of-holy-angels-away-2/
LOCATION:Academy of Holy Angels
CATEGORIES:Boys Lacrosse
END:VEVENT
BEGIN:VEVENT
DTSTART;TZID=America/Chicago:20260508T173000
DTEND;TZID=America/Chicago:20260508T173000
DTSTAMP:20260421T233911
CREATED:20250613T165039Z
LAST-MODIFIED:20260421T172027Z
UID:10009545-1778261400-1778261400@www.hill-murray.org
SUMMARY:Lacrosse: Boys JV  vs. Mahtomedi (Away)
DESCRIPTION:Type: Game  Opponent: Mahtomedi
URL:https://www.hill-murray.org/event/lacrosse-boys-jv-vs-mahtomedi-away-2/
LOCATION:Mahtomedi High School\, Saint Paul\, MN\, United States
CATEGORIES:Boys Lacrosse
GEO:45.069689;-92.951604
END:VEVENT
BEGIN:VEVENT
DTSTART;TZID=America/Chicago:20260508T190000
DTEND;TZID=America/Chicago:20260508T190000
DTSTAMP:20260421T233911
CREATED:20250613T165040Z
LAST-MODIFIED:20260421T172027Z
UID:10009546-1778266800-1778266800@www.hill-murray.org
SUMMARY:Lacrosse: Boys Varsity  vs. Mahtomedi (Away)
DESCRIPTION:Type: Game  Opponent: Mahtomedi
URL:https://www.hill-murray.org/event/lacrosse-boys-varsity-vs-mahtomedi-away-2/
LOCATION:Mahtomedi High School\, Saint Paul\, MN\, United States
CATEGORIES:Boys Lacrosse
GEO:45.069689;-92.951604
END:VEVENT
BEGIN:VEVENT
DTSTART;TZID=America/Chicago:20260512T173000
DTEND;TZID=America/Chicago:20260512T173000
DTSTAMP:20260421T233911
CREATED:20250613T165040Z
LAST-MODIFIED:20260421T172027Z
UID:10009547-1778607000-1778607000@www.hill-murray.org
SUMMARY:Lacrosse: Boys JV  vs. Simley (Home)
DESCRIPTION:Type: Game  Opponent: Simley
URL:https://www.hill-murray.org/event/lacrosse-boys-jv-vs-simley-home-2/
LOCATION:Hill Murray School
CATEGORIES:Boys Lacrosse
END:VEVENT
BEGIN:VEVENT
DTSTART;TZID=America/Chicago:20260512T190000
DTEND;TZID=America/Chicago:20260512T190000
DTSTAMP:20260421T233911
CREATED:20250613T165041Z
LAST-MODIFIED:20260421T172027Z
UID:10009548-1778612400-1778612400@www.hill-murray.org
SUMMARY:Lacrosse: Boys Varsity  vs. Simley (Home)
DESCRIPTION:Type: Game  Opponent: Simley
URL:https://www.hill-murray.org/event/lacrosse-boys-varsity-vs-simley-home-2/
LOCATION:Hill Murray School
CATEGORIES:Boys Lacrosse
END:VEVENT
BEGIN:VEVENT
DTSTART;TZID=America/Chicago:20260514T173000
DTEND;TZID=America/Chicago:20260514T173000
DTSTAMP:20260421T233911
CREATED:20251126T032042Z
LAST-MODIFIED:20260421T172027Z
UID:10009852-1778779800-1778779800@www.hill-murray.org
SUMMARY:Lacrosse: Boys JV  vs. Cretin-Derham Hall (Home)
DESCRIPTION:Type: Game  Opponent: Cretin-Derham Hall
URL:https://www.hill-murray.org/event/lacrosse-boys-jv-vs-cretin-derham-hall-home-2/
LOCATION:Hill Murray School
CATEGORIES:Boys Lacrosse
END:VEVENT
BEGIN:VEVENT
DTSTART;TZID=America/Chicago:20260514T190000
DTEND;TZID=America/Chicago:20260514T190000
DTSTAMP:20260421T233911
CREATED:20250613T165041Z
LAST-MODIFIED:20260421T172027Z
UID:10009550-1778785200-1778785200@www.hill-murray.org
SUMMARY:Lacrosse: Boys Varsity  vs. Cretin-Derham Hall (Home)
DESCRIPTION:Type: Game  Opponent: Cretin-Derham Hall
URL:https://www.hill-murray.org/event/lacrosse-boys-varsity-vs-cretin-derham-hall-home/
LOCATION:Hill Murray School
CATEGORIES:Boys Lacrosse
END:VEVENT
BEGIN:VEVENT
DTSTART;TZID=America/Chicago:20260516T103000
DTEND;TZID=America/Chicago:20260516T103000
DTSTAMP:20260421T233911
CREATED:20250613T165056Z
LAST-MODIFIED:20260421T172027Z
UID:10009551-1778927400-1778927400@www.hill-murray.org
SUMMARY:Lacrosse: Boys JV  vs. Centennial MN (Home)
DESCRIPTION:Type: Game  Opponent: Centennial MN
URL:https://www.hill-murray.org/event/lacrosse-boys-jv-vs-centennial-mn-home/
LOCATION:Hill Murray School
CATEGORIES:Boys Lacrosse
END:VEVENT
BEGIN:VEVENT
DTSTART;TZID=America/Chicago:20260516T120000
DTEND;TZID=America/Chicago:20260516T120000
DTSTAMP:20260421T233911
CREATED:20250613T165057Z
LAST-MODIFIED:20260421T172027Z
UID:10009552-1778932800-1778932800@www.hill-murray.org
SUMMARY:Lacrosse: Boys Varsity  vs. Centennial MN (Home)
DESCRIPTION:Type: Game  Opponent: Centennial MN
URL:https://www.hill-murray.org/event/lacrosse-boys-varsity-vs-centennial-mn-home/
LOCATION:Hill Murray School
CATEGORIES:Boys Lacrosse
END:VEVENT
BEGIN:VEVENT
DTSTART;TZID=America/Chicago:20260519T173000
DTEND;TZID=America/Chicago:20260519T173000
DTSTAMP:20260421T233911
CREATED:20260109T053548Z
LAST-MODIFIED:20260421T172027Z
UID:10009880-1779211800-1779211800@www.hill-murray.org
SUMMARY:Lacrosse: Boys JV  vs. Hudson (Away)
DESCRIPTION:Type: Game  Opponent: Hudson
URL:https://www.hill-murray.org/event/lacrosse-boys-jv-vs-hudson-away-3/
LOCATION:Hudson High School
CATEGORIES:Boys Lacrosse
END:VEVENT
BEGIN:VEVENT
DTSTART;TZID=America/Chicago:20260519T190000
DTEND;TZID=America/Chicago:20260519T190000
DTSTAMP:20260421T233911
CREATED:20260109T053548Z
LAST-MODIFIED:20260421T172027Z
UID:10009881-1779217200-1779217200@www.hill-murray.org
SUMMARY:Lacrosse: Boys Varsity  vs. Hudson (Away)
DESCRIPTION:Type: Game  Opponent: Hudson
URL:https://www.hill-murray.org/event/lacrosse-boys-varsity-vs-hudson-away-3/
LOCATION:Hudson High School
CATEGORIES:Boys Lacrosse
END:VEVENT
END:VCALENDAR