BEGIN:VCALENDAR
VERSION:2.0
PRODID:-//Hill-Murray School - ECPv6.15.18//NONSGML v1.0//EN
CALSCALE:GREGORIAN
METHOD:PUBLISH
X-WR-CALNAME:Hill-Murray School
X-ORIGINAL-URL:https://www.hill-murray.org
X-WR-CALDESC:Events for Hill-Murray School
REFRESH-INTERVAL;VALUE=DURATION:PT1H
X-Robots-Tag:noindex
X-PUBLISHED-TTL:PT1H
BEGIN:VTIMEZONE
TZID:America/Chicago
BEGIN:DAYLIGHT
TZOFFSETFROM:-0600
TZOFFSETTO:-0500
TZNAME:CDT
DTSTART:20250309T080000
END:DAYLIGHT
BEGIN:STANDARD
TZOFFSETFROM:-0500
TZOFFSETTO:-0600
TZNAME:CST
DTSTART:20251102T070000
END:STANDARD
BEGIN:DAYLIGHT
TZOFFSETFROM:-0600
TZOFFSETTO:-0500
TZNAME:CDT
DTSTART:20260308T080000
END:DAYLIGHT
BEGIN:STANDARD
TZOFFSETFROM:-0500
TZOFFSETTO:-0600
TZNAME:CST
DTSTART:20261101T070000
END:STANDARD
BEGIN:DAYLIGHT
TZOFFSETFROM:-0600
TZOFFSETTO:-0500
TZNAME:CDT
DTSTART:20270314T080000
END:DAYLIGHT
BEGIN:STANDARD
TZOFFSETFROM:-0500
TZOFFSETTO:-0600
TZNAME:CST
DTSTART:20271107T070000
END:STANDARD
END:VTIMEZONE
BEGIN:VEVENT
DTSTART;TZID=America/Chicago:20260421T173000
DTEND;TZID=America/Chicago:20260421T173000
DTSTAMP:20260421T125327
CREATED:20250613T165021Z
LAST-MODIFIED:20260421T172015Z
UID:10009535-1776792600-1776792600@www.hill-murray.org
SUMMARY:Lacrosse: Boys JV  vs. Chisago Lakes (Home)
DESCRIPTION:Type: Game  Opponent: Chisago Lakes
URL:https://www.hill-murray.org/event/lacrosse-boys-jv-vs-chisago-lakes-home-2/
LOCATION:Hill Murray School
CATEGORIES:Boys Lacrosse
END:VEVENT
BEGIN:VEVENT
DTSTART;TZID=America/Chicago:20260421T190000
DTEND;TZID=America/Chicago:20260421T190000
DTSTAMP:20260421T125327
CREATED:20250613T165021Z
LAST-MODIFIED:20260421T172015Z
UID:10009536-1776798000-1776798000@www.hill-murray.org
SUMMARY:Lacrosse: Boys Varsity  vs. Chisago Lakes (Home)
DESCRIPTION:Type: Game  Opponent: Chisago Lakes
URL:https://www.hill-murray.org/event/lacrosse-boys-varsity-vs-chisago-lakes-home-2/
LOCATION:Hill Murray School
CATEGORIES:Boys Lacrosse
END:VEVENT
BEGIN:VEVENT
DTSTART;TZID=America/Chicago:20260424T173000
DTEND;TZID=America/Chicago:20260424T173000
DTSTAMP:20260421T125327
CREATED:20250613T165021Z
LAST-MODIFIED:20260421T172015Z
UID:10009537-1777051800-1777051800@www.hill-murray.org
SUMMARY:Lacrosse: Boys JV  vs. St. Thomas Academy (Home)
DESCRIPTION:Type: Game  Opponent: St. Thomas Academy
URL:https://www.hill-murray.org/event/lacrosse-boys-jv-vs-st-thomas-academy-home-3/
LOCATION:Hill Murray School
CATEGORIES:Boys Lacrosse
END:VEVENT
BEGIN:VEVENT
DTSTART;TZID=America/Chicago:20260424T190000
DTEND;TZID=America/Chicago:20260424T190000
DTSTAMP:20260421T125327
CREATED:20250613T165021Z
LAST-MODIFIED:20260421T172015Z
UID:10009538-1777057200-1777057200@www.hill-murray.org
SUMMARY:Lacrosse: Boys Varsity  vs. St. Thomas Academy (Home)
DESCRIPTION:Type: Game  Opponent: St. Thomas Academy
URL:https://www.hill-murray.org/event/lacrosse-boys-varsity-vs-st-thomas-academy-home-3/
LOCATION:Hill Murray School
CATEGORIES:Boys Lacrosse
END:VEVENT
BEGIN:VEVENT
DTSTART;TZID=America/Chicago:20260428T173000
DTEND;TZID=America/Chicago:20260428T173000
DTSTAMP:20260421T125327
CREATED:20250613T165022Z
LAST-MODIFIED:20260421T172015Z
UID:10009539-1777397400-1777397400@www.hill-murray.org
SUMMARY:Lacrosse: Boys JV  vs. Two Rivers High School (Away)
DESCRIPTION:Type: Game  Opponent: Two Rivers High School
URL:https://www.hill-murray.org/event/lacrosse-boys-jv-vs-two-rivers-high-school-away-3/
LOCATION:Two Rivers High School
CATEGORIES:Boys Lacrosse
END:VEVENT
BEGIN:VEVENT
DTSTART;TZID=America/Chicago:20260428T190000
DTEND;TZID=America/Chicago:20260428T190000
DTSTAMP:20260421T125327
CREATED:20250613T165022Z
LAST-MODIFIED:20260421T172015Z
UID:10009540-1777402800-1777402800@www.hill-murray.org
SUMMARY:Lacrosse: Boys Varsity  vs. Two Rivers High School (Away)
DESCRIPTION:Type: Game  Opponent: Two Rivers High School
URL:https://www.hill-murray.org/event/lacrosse-boys-varsity-vs-two-rivers-high-school-away-3/
LOCATION:Two Rivers High School
CATEGORIES:Boys Lacrosse
END:VEVENT
END:VCALENDAR