BEGIN:VCALENDAR
VERSION:2.0
PRODID:-//Hill-Murray School - ECPv6.15.18//NONSGML v1.0//EN
CALSCALE:GREGORIAN
METHOD:PUBLISH
X-ORIGINAL-URL:https://www.hill-murray.org
X-WR-CALDESC:Events for Hill-Murray School
REFRESH-INTERVAL;VALUE=DURATION:PT1H
X-Robots-Tag:noindex
X-PUBLISHED-TTL:PT1H
BEGIN:VTIMEZONE
TZID:America/Chicago
BEGIN:DAYLIGHT
TZOFFSETFROM:-0600
TZOFFSETTO:-0500
TZNAME:CDT
DTSTART:20250309T080000
END:DAYLIGHT
BEGIN:STANDARD
TZOFFSETFROM:-0500
TZOFFSETTO:-0600
TZNAME:CST
DTSTART:20251102T070000
END:STANDARD
BEGIN:DAYLIGHT
TZOFFSETFROM:-0600
TZOFFSETTO:-0500
TZNAME:CDT
DTSTART:20260308T080000
END:DAYLIGHT
BEGIN:STANDARD
TZOFFSETFROM:-0500
TZOFFSETTO:-0600
TZNAME:CST
DTSTART:20261101T070000
END:STANDARD
BEGIN:DAYLIGHT
TZOFFSETFROM:-0600
TZOFFSETTO:-0500
TZNAME:CDT
DTSTART:20270314T080000
END:DAYLIGHT
BEGIN:STANDARD
TZOFFSETFROM:-0500
TZOFFSETTO:-0600
TZNAME:CST
DTSTART:20271107T070000
END:STANDARD
END:VTIMEZONE
BEGIN:VEVENT
DTSTART;VALUE=DATE:20260301
DTEND;VALUE=DATE:20260304
DTSTAMP:20260421T051827
CREATED:20250530T051206Z
LAST-MODIFIED:20260303T215020Z
UID:10009421-1772323200-1772582399@www.hill-murray.org
SUMMARY:DECA State
DESCRIPTION:
URL:https://www.hill-murray.org/event/deca-state/
END:VEVENT
BEGIN:VEVENT
DTSTART;VALUE=DATE:20260302
DTEND;VALUE=DATE:20260303
DTSTAMP:20260421T051827
CREATED:20250411T075306Z
LAST-MODIFIED:20260302T213526Z
UID:10008647-1772409600-1772495999@www.hill-murray.org
SUMMARY:ODD DAY
DESCRIPTION:
URL:https://www.hill-murray.org/event/even-day-180/
END:VEVENT
END:VCALENDAR