BEGIN:VCALENDAR
VERSION:2.0
PRODID:-//Hill-Murray School - ECPv6.15.18//NONSGML v1.0//EN
CALSCALE:GREGORIAN
METHOD:PUBLISH
X-WR-CALNAME:Hill-Murray School
X-ORIGINAL-URL:https://www.hill-murray.org
X-WR-CALDESC:Events for Hill-Murray School
REFRESH-INTERVAL;VALUE=DURATION:PT1H
X-Robots-Tag:noindex
X-PUBLISHED-TTL:PT1H
BEGIN:VTIMEZONE
TZID:UTC
BEGIN:STANDARD
TZOFFSETFROM:+0000
TZOFFSETTO:+0000
TZNAME:UTC
DTSTART:20240101T000000
END:STANDARD
END:VTIMEZONE
BEGIN:VEVENT
DTSTART;TZID=UTC:20250601T090000
DTEND;TZID=UTC:20250601T123000
DTSTAMP:20260422T055821
CREATED:20250529T045023Z
LAST-MODIFIED:20250601T053527Z
UID:10009412-1748768400-1748781000@www.hill-murray.org
SUMMARY:HMDT Spring Dance Clinic
DESCRIPTION:
URL:https://www.hill-murray.org/event/hmdt-spring-dance-clinic/
LOCATION:Varsity Gym
END:VEVENT
END:VCALENDAR