BEGIN:VCALENDAR
VERSION:2.0
PRODID:-//Hill-Murray School - ECPv6.15.18//NONSGML v1.0//EN
CALSCALE:GREGORIAN
METHOD:PUBLISH
X-WR-CALNAME:Hill-Murray School
X-ORIGINAL-URL:https://www.hill-murray.org
X-WR-CALDESC:Events for Hill-Murray School
REFRESH-INTERVAL;VALUE=DURATION:PT1H
X-Robots-Tag:noindex
X-PUBLISHED-TTL:PT1H
BEGIN:VTIMEZONE
TZID:UTC
BEGIN:STANDARD
TZOFFSETFROM:+0000
TZOFFSETTO:+0000
TZNAME:UTC
DTSTART:20240101T000000
END:STANDARD
END:VTIMEZONE
BEGIN:VEVENT
DTSTART;VALUE=DATE:20250531
DTEND;VALUE=DATE:20250601
DTSTAMP:20260421T104506
CREATED:20240709T182118Z
LAST-MODIFIED:20250531T052024Z
UID:10008076-1748649600-1748735999@www.hill-murray.org
SUMMARY:Hill-Murray Spring Art Show - gallery hours
DESCRIPTION:
URL:https://www.hill-murray.org/event/hill-murray-spring-art-show-gallery-hours-48/
LOCATION:St Paul’s Monastery\, 1999 N St Paul Rd\, Saint Paul\, MN\, United States
GEO:44.999187;-93.014972
X-APPLE-STRUCTURED-LOCATION;VALUE=URI;X-ADDRESS=St Paul’s Monastery 1999 N St Paul Rd Saint Paul MN United States;X-APPLE-RADIUS=500;X-TITLE=1999 N St Paul Rd:geo:-93.014972,44.999187
END:VEVENT
END:VCALENDAR