BEGIN:VCALENDAR
VERSION:2.0
PRODID:-//Hill-Murray School - ECPv6.15.18//NONSGML v1.0//EN
CALSCALE:GREGORIAN
METHOD:PUBLISH
X-ORIGINAL-URL:https://www.hill-murray.org
X-WR-CALDESC:Events for Hill-Murray School
REFRESH-INTERVAL;VALUE=DURATION:PT1H
X-Robots-Tag:noindex
X-PUBLISHED-TTL:PT1H
BEGIN:VTIMEZONE
TZID:UTC
BEGIN:STANDARD
TZOFFSETFROM:+0000
TZOFFSETTO:+0000
TZNAME:UTC
DTSTART:20240101T000000
END:STANDARD
END:VTIMEZONE
BEGIN:VEVENT
DTSTART;VALUE=DATE:20250523
DTEND;VALUE=DATE:20250524
DTSTAMP:20260421T084717
CREATED:20240709T182103Z
LAST-MODIFIED:20250522T192740Z
UID:10006321-1747958400-1748044799@www.hill-murray.org
SUMMARY:Hill-Murray Spring Art Show - gallery hours
DESCRIPTION:
URL:https://www.hill-murray.org/event/hill-murray-spring-art-show-gallery-hours-40/
LOCATION:St Paul’s Monastery\, 1999 N St Paul Rd\, Saint Paul\, MN\, United States
GEO:44.999187;-93.014972
X-APPLE-STRUCTURED-LOCATION;VALUE=URI;X-ADDRESS=St Paul’s Monastery 1999 N St Paul Rd Saint Paul MN United States;X-APPLE-RADIUS=500;X-TITLE=1999 N St Paul Rd:geo:-93.014972,44.999187
END:VEVENT
BEGIN:VEVENT
DTSTART;VALUE=DATE:20250523
DTEND;VALUE=DATE:20250524
DTSTAMP:20260421T084717
CREATED:20240709T182104Z
LAST-MODIFIED:20250522T192740Z
UID:10006327-1747958400-1748044799@www.hill-murray.org
SUMMARY:NO SCHOOL
DESCRIPTION:
URL:https://www.hill-murray.org/event/no-school-72/
END:VEVENT
BEGIN:VEVENT
DTSTART;VALUE=DATE:20250523
DTEND;VALUE=DATE:20250524
DTSTAMP:20260421T084717
CREATED:20240719T205100Z
LAST-MODIFIED:20250522T192740Z
UID:10008152-1747958400-1748044799@www.hill-murray.org
SUMMARY:STAFF HOURS 8AM-12PM
DESCRIPTION:
URL:https://www.hill-murray.org/event/staff-hours-8am-12pm-47/
END:VEVENT
BEGIN:VEVENT
DTSTART;TZID=UTC:20250523T072000
DTEND;TZID=UTC:20250523T075000
DTSTAMP:20260421T084717
CREATED:20241213T175018Z
LAST-MODIFIED:20250522T192740Z
UID:10008381-1747984800-1747986600@www.hill-murray.org
SUMMARY:Confession - Father John in the Chapel
DESCRIPTION:
URL:https://www.hill-murray.org/event/confession-father-john-in-the-chapel-49/
END:VEVENT
END:VCALENDAR