BEGIN:VCALENDAR
VERSION:2.0
PRODID:-//Hill-Murray School - ECPv6.15.18//NONSGML v1.0//EN
CALSCALE:GREGORIAN
METHOD:PUBLISH
X-ORIGINAL-URL:https://www.hill-murray.org
X-WR-CALDESC:Events for Hill-Murray School
REFRESH-INTERVAL;VALUE=DURATION:PT1H
X-Robots-Tag:noindex
X-PUBLISHED-TTL:PT1H
BEGIN:VTIMEZONE
TZID:UTC
BEGIN:STANDARD
TZOFFSETFROM:+0000
TZOFFSETTO:+0000
TZNAME:UTC
DTSTART:20240101T000000
END:STANDARD
END:VTIMEZONE
BEGIN:VEVENT
DTSTART;VALUE=DATE:20250328
DTEND;VALUE=DATE:20250329
DTSTAMP:20260421T033701
CREATED:20240725T222053Z
LAST-MODIFIED:20250328T235858Z
UID:10008217-1743120000-1743206399@www.hill-murray.org
SUMMARY:EVEN DAY
DESCRIPTION:
URL:https://www.hill-murray.org/event/even-day-116/
END:VEVENT
BEGIN:VEVENT
DTSTART;VALUE=DATE:20250328
DTEND;VALUE=DATE:20250329
DTSTAMP:20260421T033701
CREATED:20241211T171714Z
LAST-MODIFIED:20250328T235858Z
UID:10008360-1743120000-1743206399@www.hill-murray.org
SUMMARY:Studco Sponsored - Spring Fling Week
DESCRIPTION:
URL:https://www.hill-murray.org/event/studco-sponsored-spring-fling-week-5/
END:VEVENT
BEGIN:VEVENT
DTSTART;TZID=UTC:20250328T072000
DTEND;TZID=UTC:20250328T075000
DTSTAMP:20260421T033701
CREATED:20241213T174736Z
LAST-MODIFIED:20250327T234356Z
UID:10008373-1743146400-1743148200@www.hill-murray.org
SUMMARY:Confession - Father John in the Chapel
DESCRIPTION:
URL:https://www.hill-murray.org/event/confession-father-john-in-the-chapel-41/
END:VEVENT
END:VCALENDAR