BEGIN:VCALENDAR
VERSION:2.0
PRODID:-//Hill-Murray School - ECPv6.15.18//NONSGML v1.0//EN
CALSCALE:GREGORIAN
METHOD:PUBLISH
X-ORIGINAL-URL:https://www.hill-murray.org
X-WR-CALDESC:Events for Hill-Murray School
REFRESH-INTERVAL;VALUE=DURATION:PT1H
X-Robots-Tag:noindex
X-PUBLISHED-TTL:PT1H
BEGIN:VTIMEZONE
TZID:UTC
BEGIN:STANDARD
TZOFFSETFROM:+0000
TZOFFSETTO:+0000
TZNAME:UTC
DTSTART:20230101T000000
END:STANDARD
END:VTIMEZONE
BEGIN:VEVENT
DTSTART;VALUE=DATE:20241227
DTEND;VALUE=DATE:20241228
DTSTAMP:20260422T073246
CREATED:20240622T140346Z
LAST-MODIFIED:20241227T211359Z
UID:10008008-1735257600-1735343999@www.hill-murray.org
SUMMARY:NO SCHOOL
DESCRIPTION:
URL:https://www.hill-murray.org/event/no-school-59/
END:VEVENT
BEGIN:VEVENT
DTSTART;VALUE=DATE:20241227
DTEND;VALUE=DATE:20241228
DTSTAMP:20260422T073246
CREATED:20240719T204845Z
LAST-MODIFIED:20241227T211358Z
UID:10008143-1735257600-1735343999@www.hill-murray.org
SUMMARY:STAFF HOURS 8AM-12PM
DESCRIPTION:
URL:https://www.hill-murray.org/event/staff-hours-8am-12pm-43/
END:VEVENT
BEGIN:VEVENT
DTSTART;TZID=UTC:20241227T230000
DTEND;TZID=UTC:20241227T230000
DTSTAMP:20260422T073246
CREATED:20240501T072207Z
LAST-MODIFIED:20240821T131950Z
UID:10007691-1735340400-1735340400@www.hill-murray.org
SUMMARY:Hockey: Girls JV  vs.  Centennial Orono">Multiple Schools (Away)
DESCRIPTION:Type: Invitational  Opponent:  Centennial Orono”>Multiple Schools
URL:https://www.hill-murray.org/event/hockey-girls-jv-vs-centennial-oronomultiple-schools-away-3/
LOCATION:St. Louis Park Rec Center
END:VEVENT
BEGIN:VEVENT
DTSTART;TZID=UTC:20241227T230000
DTEND;TZID=UTC:20241227T230000
DTSTAMP:20260422T073246
CREATED:20240501T072207Z
LAST-MODIFIED:20240821T131950Z
UID:10007692-1735340400-1735340400@www.hill-murray.org
SUMMARY:Basketball: Girls Varsity  vs. Forest LakeFridleyLakeville SouthCamden High SchoolSo. St. PaulTotino-Grace'>Multiple Schools (Home)
DESCRIPTION:Type: Tournament  Opponent: Forest LakeFridleyLakeville SouthCamden High SchoolSo. St. PaulTotino-Grace’>Multiple Schools
URL:https://www.hill-murray.org/event/basketball-girls-varsity-vs-forest-lakefridleylakeville-southpatrick-henryso-st-paultotino-gracemultiple-schools-home-3/
LOCATION:Hill Murray
END:VEVENT
BEGIN:VEVENT
DTSTART;TZID=UTC:20241227T230000
DTEND;TZID=UTC:20241227T230000
DTSTAMP:20260422T073246
CREATED:20240501T072207Z
LAST-MODIFIED:20240821T131950Z
UID:10007693-1735340400-1735340400@www.hill-murray.org
SUMMARY:Hockey: Girls Varsity  vs.  Centennial Orono">Multiple Schools (Away)
DESCRIPTION:Type: Invitational  Opponent:  Centennial Orono”>Multiple Schools
URL:https://www.hill-murray.org/event/hockey-girls-varsity-vs-centennial-oronomultiple-schools-away-3/
LOCATION:St. Louis Park Rec Center
END:VEVENT
BEGIN:VEVENT
DTSTART;TZID=UTC:20241227T230000
DTEND;TZID=UTC:20241227T230000
DTSTAMP:20260422T073246
CREATED:20240501T072208Z
LAST-MODIFIED:20240821T131950Z
UID:10007694-1735340400-1735340400@www.hill-murray.org
SUMMARY:Basketball: Girls JV  vs. Forest LakeFridleyLakeville SouthCamden High SchoolSo. St. PaulTotino-Grace'>Multiple Schools (Home)
DESCRIPTION:Type: Tournament  Opponent: Forest LakeFridleyLakeville SouthCamden High SchoolSo. St. PaulTotino-Grace’>Multiple Schools
URL:https://www.hill-murray.org/event/basketball-girls-jv-vs-forest-lakefridleylakeville-southpatrick-henryso-st-paultotino-gracemultiple-schools-home-3/
LOCATION:Hill Murray
END:VEVENT
END:VCALENDAR