BEGIN:VCALENDAR
VERSION:2.0
PRODID:-//Hill-Murray School - ECPv6.15.18//NONSGML v1.0//EN
CALSCALE:GREGORIAN
METHOD:PUBLISH
X-WR-CALNAME:Hill-Murray School
X-ORIGINAL-URL:https://www.hill-murray.org
X-WR-CALDESC:Events for Hill-Murray School
REFRESH-INTERVAL;VALUE=DURATION:PT1H
X-Robots-Tag:noindex
X-PUBLISHED-TTL:PT1H
BEGIN:VTIMEZONE
TZID:UTC
BEGIN:STANDARD
TZOFFSETFROM:+0000
TZOFFSETTO:+0000
TZNAME:UTC
DTSTART:20230101T000000
END:STANDARD
END:VTIMEZONE
BEGIN:VEVENT
DTSTART;VALUE=DATE:20241224
DTEND;VALUE=DATE:20241225
DTSTAMP:20260422T073103
CREATED:20240622T140346Z
LAST-MODIFIED:20241224T202857Z
UID:10008005-1734998400-1735084799@www.hill-murray.org
SUMMARY:NO SCHOOL
DESCRIPTION:
URL:https://www.hill-murray.org/event/no-school-56/
END:VEVENT
BEGIN:VEVENT
DTSTART;VALUE=DATE:20241224
DTEND;VALUE=DATE:20241225
DTSTAMP:20260422T073103
CREATED:20240719T204844Z
LAST-MODIFIED:20241224T202857Z
UID:10008140-1734998400-1735084799@www.hill-murray.org
SUMMARY:CLOSED - STAFF OFF
DESCRIPTION:
URL:https://www.hill-murray.org/event/closed-staff-off-5/
END:VEVENT
END:VCALENDAR