BEGIN:VCALENDAR
VERSION:2.0
PRODID:-//Hill-Murray School - ECPv6.15.18//NONSGML v1.0//EN
CALSCALE:GREGORIAN
METHOD:PUBLISH
X-WR-CALNAME:Hill-Murray School
X-ORIGINAL-URL:https://www.hill-murray.org
X-WR-CALDESC:Events for Hill-Murray School
REFRESH-INTERVAL;VALUE=DURATION:PT1H
X-Robots-Tag:noindex
X-PUBLISHED-TTL:PT1H
BEGIN:VTIMEZONE
TZID:UTC
BEGIN:STANDARD
TZOFFSETFROM:+0000
TZOFFSETTO:+0000
TZNAME:UTC
DTSTART:20230101T000000
END:STANDARD
END:VTIMEZONE
BEGIN:VEVENT
DTSTART;VALUE=DATE:20241121
DTEND;VALUE=DATE:20241122
DTSTAMP:20260421T084533
CREATED:20240622T140305Z
LAST-MODIFIED:20241121T121357Z
UID:10006234-1732147200-1732233599@www.hill-murray.org
SUMMARY:EVEN DAY
DESCRIPTION:
URL:https://www.hill-murray.org/event/even-day-90/
END:VEVENT
BEGIN:VEVENT
DTSTART;TZID=UTC:20241121T070000
DTEND;TZID=UTC:20241121T073000
DTSTAMP:20260421T084533
CREATED:20240910T141641Z
LAST-MODIFIED:20241121T121357Z
UID:10006541-1732172400-1732174200@www.hill-murray.org
SUMMARY:Student of the Month
DESCRIPTION:
URL:https://www.hill-murray.org/event/student-of-the-month-16/
LOCATION:Cafeteria
END:VEVENT
BEGIN:VEVENT
DTSTART;TZID=UTC:20241121T072000
DTEND;TZID=UTC:20241121T075000
DTSTAMP:20260421T084533
CREATED:20241004T201544Z
LAST-MODIFIED:20241121T121357Z
UID:10008315-1732173600-1732175400@www.hill-murray.org
SUMMARY:Confession - Father John in the Chapel
DESCRIPTION:
URL:https://www.hill-murray.org/event/confession-father-john-in-the-chapel-6/
END:VEVENT
BEGIN:VEVENT
DTSTART;TZID=UTC:20241121T160000
DTEND;TZID=UTC:20241121T160000
DTSTAMP:20260421T084533
CREATED:20240501T072022Z
LAST-MODIFIED:20240821T131805Z
UID:10007652-1732204800-1732204800@www.hill-murray.org
SUMMARY:Hockey: Girls JV  vs. Rogers - MN (Home)
DESCRIPTION:Type: Game  Opponent: Rogers – MN
URL:https://www.hill-murray.org/event/hockey-girls-jv-vs-rogers-mn-home/
LOCATION:Polar Arena
END:VEVENT
BEGIN:VEVENT
DTSTART;TZID=UTC:20241121T180000
DTEND;TZID=UTC:20241121T180000
DTSTAMP:20260421T084533
CREATED:20240501T072023Z
LAST-MODIFIED:20240821T131805Z
UID:10007653-1732212000-1732212000@www.hill-murray.org
SUMMARY:Hockey: Girls Varsity  vs. Rogers - MN (Home)
DESCRIPTION:Type: Game  Opponent: Rogers – MN
URL:https://www.hill-murray.org/event/hockey-girls-varsity-vs-rogers-mn-home/
LOCATION:Polar Arena
END:VEVENT
END:VCALENDAR