BEGIN:VCALENDAR
VERSION:2.0
PRODID:-//Hill-Murray School - ECPv6.15.18//NONSGML v1.0//EN
CALSCALE:GREGORIAN
METHOD:PUBLISH
X-WR-CALNAME:Hill-Murray School
X-ORIGINAL-URL:https://www.hill-murray.org
X-WR-CALDESC:Events for Hill-Murray School
REFRESH-INTERVAL;VALUE=DURATION:PT1H
X-Robots-Tag:noindex
X-PUBLISHED-TTL:PT1H
BEGIN:VTIMEZONE
TZID:UTC
BEGIN:STANDARD
TZOFFSETFROM:+0000
TZOFFSETTO:+0000
TZNAME:UTC
DTSTART:20230101T000000
END:STANDARD
END:VTIMEZONE
BEGIN:VEVENT
DTSTART;VALUE=DATE:20241031
DTEND;VALUE=DATE:20241101
DTSTAMP:20260421T120639
CREATED:20240622T140239Z
LAST-MODIFIED:20241031T071353Z
UID:10007977-1730332800-1730419199@www.hill-murray.org
SUMMARY:EVEN DAY
DESCRIPTION:
URL:https://www.hill-murray.org/event/even-day-85/
END:VEVENT
BEGIN:VEVENT
DTSTART;TZID=UTC:20241031T072000
DTEND;TZID=UTC:20241031T075000
DTSTAMP:20260421T120639
CREATED:20241004T201504Z
LAST-MODIFIED:20241031T071354Z
UID:10008312-1730359200-1730361000@www.hill-murray.org
SUMMARY:Confession - Father John in the Chapel
DESCRIPTION:
URL:https://www.hill-murray.org/event/confession-father-john-in-the-chapel-3/
END:VEVENT
END:VCALENDAR