BEGIN:VCALENDAR
VERSION:2.0
PRODID:-//Hill-Murray School - ECPv6.15.18//NONSGML v1.0//EN
CALSCALE:GREGORIAN
METHOD:PUBLISH
X-ORIGINAL-URL:https://www.hill-murray.org
X-WR-CALDESC:Events for Hill-Murray School
REFRESH-INTERVAL;VALUE=DURATION:PT1H
X-Robots-Tag:noindex
X-PUBLISHED-TTL:PT1H
BEGIN:VTIMEZONE
TZID:UTC
BEGIN:STANDARD
TZOFFSETFROM:+0000
TZOFFSETTO:+0000
TZNAME:UTC
DTSTART:20230101T000000
END:STANDARD
END:VTIMEZONE
BEGIN:VEVENT
DTSTART;VALUE=DATE:20241008
DTEND;VALUE=DATE:20241009
DTSTAMP:20260422T083006
CREATED:20240620T134630Z
LAST-MODIFIED:20241008T211410Z
UID:10006194-1728345600-1728431999@www.hill-murray.org
SUMMARY:Hispanic Heritage Month
DESCRIPTION:
URL:https://www.hill-murray.org/event/hispanic-heritage-month-24/
END:VEVENT
BEGIN:VEVENT
DTSTART;VALUE=DATE:20241008
DTEND;VALUE=DATE:20241009
DTSTAMP:20260422T083006
CREATED:20240622T140144Z
LAST-MODIFIED:20241008T211410Z
UID:10006210-1728345600-1728431999@www.hill-murray.org
SUMMARY:EVEN DAY
DESCRIPTION:
URL:https://www.hill-murray.org/event/even-day-79/
END:VEVENT
BEGIN:VEVENT
DTSTART;TZID=UTC:20241008T180000
DTEND;TZID=UTC:20241008T190000
DTSTAMP:20260422T083006
CREATED:20240917T160024Z
LAST-MODIFIED:20241008T211356Z
UID:10006549-1728410400-1728414000@www.hill-murray.org
SUMMARY:HM Boys Basketball Informational Meeting
DESCRIPTION:
URL:https://www.hill-murray.org/event/hm-boys-basketball-informational-meeting/
LOCATION:Cafeteria
END:VEVENT
END:VCALENDAR